BEGIN:VCALENDAR
METHOD:PUBLISH
VERSION:2.0
CALSCALE:GREGORIAN
PRODID:-//NONSGML WPForms//NONSGML Sugar Calendar Feeds v3.10.0//EN
X-WR-CALNAME:1st Saturday's @ Coops to Co-op 9:00 am - 3:00 pm￼
X-WR-CALDESC:The Hidden Little Gem Blog
X-WR-TIMEZONE:America/New_York
BEGIN:VTIMEZONE
TZID:America/New_York
BEGIN:DAYLIGHT
TZOFFSETFROM:-0500
TZOFFSETTO:-0400
DTSTART:20220313T070000
TZNAME:EDT
END:DAYLIGHT
END:VTIMEZONE
BEGIN:VTIMEZONE
TZID:America/New_York
BEGIN:DAYLIGHT
TZOFFSETFROM:-0500
TZOFFSETTO:-0400
DTSTART:20220313T070000
TZNAME:EDT
END:DAYLIGHT
END:VTIMEZONE
BEGIN:VEVENT
SUMMARY:1st Saturday's @ Coops to Co-op 9:00 am - 3:00 pm￼
DESCRIPTION:"Every First Saturday. May - October. A festival style event
 . Extended Hour. Craft Vendors. Live Music. Interchangable activities\; 
 e.i. hands on crafts\, yoga &amp\; more."\n\n\n\n*Check out their websit
 e for more information. They offer kids yoga and other things for your l
 ittles. It is a great Saturday morning activity during the spring and su
 mmer to go check out!\n\n\n\n\nhttps://www.coopstoco-ops.com\n\n\n\n\n\n
 back to calendar
URL;VALUE=URI:https://thehiddenlittlegemblog.com/events/1st-saturdays-co
 ops-to-co-op-900-am-300-pm%ef%bf%bc/
UID:urn:uuid:d07562e3-38ad-4449-a0dc-8a81bd3d6970
STATUS:CONFIRMED
ORGANIZER:
DTSTAMP:20260421T082032Z
DTSTART;TZID=America/New_York:20220604T090000
DTEND;TZID=America/New_York:20220604T090000
LOCATION:31140 Peggy Neck Road\nPrincess Anne MD\, 21853
END:VEVENT
END:VCALENDAR