BEGIN:VCALENDAR
METHOD:PUBLISH
VERSION:2.0
CALSCALE:GREGORIAN
PRODID:-//NONSGML WPForms//NONSGML Sugar Calendar Feeds v3.10.0//EN
X-WR-CALNAME:1st Saturday's @ Coops to Co-op 9:00 am - 3:00 pm
X-WR-CALDESC:The Hidden Little Gem Blog
X-WR-TIMEZONE:America/New_York
BEGIN:VTIMEZONE
TZID:America/New_York
BEGIN:STANDARD
TZOFFSETFROM:-0400
TZOFFSETTO:-0500
DTSTART:20211107T060000
TZNAME:EST
END:STANDARD
BEGIN:DAYLIGHT
TZOFFSETFROM:-0500
TZOFFSETTO:-0400
DTSTART:20220313T070000
TZNAME:EDT
END:DAYLIGHT
END:VTIMEZONE
BEGIN:VTIMEZONE
TZID:America/New_York
BEGIN:STANDARD
TZOFFSETFROM:-0400
TZOFFSETTO:-0500
DTSTART:20211107T060000
TZNAME:EST
END:STANDARD
BEGIN:DAYLIGHT
TZOFFSETFROM:-0500
TZOFFSETTO:-0400
DTSTART:20220313T070000
TZNAME:EDT
END:DAYLIGHT
END:VTIMEZONE
BEGIN:VEVENT
SUMMARY:1st Saturday's @ Coops to Co-op 9:00 am - 3:00 pm
DESCRIPTION:"Every First Saturday. May - October. A festival style event
 . Extended Hour. Craft Vendors. Live Music. Interchangable activities\; 
 e.i. hands on crafts\, yoga &amp\; more."\n\n\n\n*Check out their websit
 e for more information. They offer kids yoga and other things for your l
 ittles. It is a great Saturday morning activity during the spring and su
 mmer to go check out!\n\n\n\n\nhttps://www.coopstoco-ops.com\n\n\n\n\n\n
 back to calendar
URL;VALUE=URI:https://thehiddenlittlegemblog.com/events/1st-saturdays-co
 ops-to-co-op-900-am-300-pm/
UID:urn:uuid:070882ee-a599-4288-843c-6c3181389925
STATUS:CONFIRMED
ORGANIZER:
DTSTAMP:20260421T083040Z
DTSTART;TZID=America/New_York:20220507T090000
DTEND;TZID=America/New_York:20220507T150000
LOCATION:31140 Peggy Neck Road\nPrincess Anne MD\, 21853
END:VEVENT
END:VCALENDAR