BEGIN:VCALENDAR
METHOD:PUBLISH
VERSION:2.0
CALSCALE:GREGORIAN
PRODID:-//NONSGML WPForms//NONSGML Sugar Calendar Feeds v3.11.0//EN
X-WR-CALNAME:Beaver Run Playgroup 9:00 am to 10:00 am Ages Birth - 4 (Fr
 ee)
X-WR-CALDESC:The Hidden Little Gem Blog
X-WR-TIMEZONE:America/New_York
BEGIN:VTIMEZONE
TZID:America/New_York
BEGIN:DAYLIGHT
TZOFFSETFROM:-0400
TZOFFSETTO:-0400
DTSTART:20220330T210000
TZNAME:EDT
END:DAYLIGHT
END:VTIMEZONE
BEGIN:VTIMEZONE
TZID:America/New_York
BEGIN:DAYLIGHT
TZOFFSETFROM:-0400
TZOFFSETTO:-0400
DTSTART:20220330T210000
TZNAME:EDT
END:DAYLIGHT
END:VTIMEZONE
BEGIN:VEVENT
SUMMARY:Beaver Run Playgroup 9:00 am to 10:00 am Ages Birth - 4 (Free)
DESCRIPTION:link to Facebook page\n\n\n\n\n\nback to calendar
URL;VALUE=URI:https://thehiddenlittlegemblog.com/events/beaver-run-playg
 roup-900-am-1000-am-ages-birth-4-free/
UID:urn:uuid:48feee6a-96da-4d5a-a3f9-5a24040af991
STATUS:CONFIRMED
ORGANIZER:
DTSTAMP:20260424T025211Z
DTSTART;TZID=America/New_York:20220929T090000
DTEND;TZID=America/New_York:20220929T100000
RRULE:FREQ=WEEKLY;INTERVAL=1;UNTIL=20230601T235959Z
LOCATION:Beaver Run Elementary School \n31481 Old Ocean City Road\nSalis
 bury\, MD 21804
END:VEVENT
END:VCALENDAR