BEGIN:VCALENDAR
METHOD:PUBLISH
VERSION:2.0
CALSCALE:GREGORIAN
PRODID:-//NONSGML WPForms//NONSGML Sugar Calendar Feeds v3.10.0//EN
X-WR-CALNAME:Berlin Glow Walk at 5:30 pm
X-WR-CALDESC:The Hidden Little Gem Blog
X-WR-TIMEZONE:America/New_York
BEGIN:VTIMEZONE
TZID:America/New_York
BEGIN:DAYLIGHT
TZOFFSETFROM:-0400
TZOFFSETTO:-0400
DTSTART:20220506T053000
TZNAME:EDT
END:DAYLIGHT
END:VTIMEZONE
BEGIN:VTIMEZONE
TZID:America/New_York
BEGIN:DAYLIGHT
TZOFFSETFROM:-0400
TZOFFSETTO:-0400
DTSTART:20220506T053000
TZNAME:EDT
END:DAYLIGHT
END:VTIMEZONE
BEGIN:VEVENT
SUMMARY:Berlin Glow Walk at 5:30 pm
DESCRIPTION:link to Facebook event\n\n\n\n\n\nback to calendar
URL;VALUE=URI:https://thehiddenlittlegemblog.com/events/berlin-glow-walk
 -at-530-pm/
UID:urn:uuid:b011eb13-26d6-4fa5-949b-211f9b7d5e3d
STATUS:CONFIRMED
ORGANIZER:
DTSTAMP:20260422T060338Z
DTSTART;TZID=America/New_York:20221104T173000
DTEND;TZID=America/New_York:20221104T173000
LOCATION:Stephen Decatur Park\nTripoli St. &amp\; Rt. 113 \nBerlin\, MD 
 21811
END:VEVENT
END:VCALENDAR