BEGIN:VCALENDAR
METHOD:PUBLISH
VERSION:2.0
CALSCALE:GREGORIAN
PRODID:-//NONSGML WPForms//NONSGML Sugar Calendar Feeds v3.10.0//EN
X-WR-CALNAME:Breakfast with Santa at the Chick-fil-a in Seaford\, DE 9:0
 0 am
X-WR-CALDESC:The Hidden Little Gem Blog
X-WR-TIMEZONE:America/New_York
BEGIN:VTIMEZONE
TZID:America/New_York
BEGIN:STANDARD
TZOFFSETFROM:-0400
TZOFFSETTO:-0500
DTSTART:20221106T060000
TZNAME:EST
END:STANDARD
END:VTIMEZONE
BEGIN:VTIMEZONE
TZID:America/New_York
BEGIN:STANDARD
TZOFFSETFROM:-0400
TZOFFSETTO:-0500
DTSTART:20221106T060000
TZNAME:EST
END:STANDARD
END:VTIMEZONE
BEGIN:VEVENT
SUMMARY:Breakfast with Santa at the Chick-fil-a in Seaford\, DE 9:00 am
DESCRIPTION:link to Facebook event
URL;VALUE=URI:https://thehiddenlittlegemblog.com/events/breakfast-with-s
 anta-at-the-chick-fil-a-in-seaford-de-900-am/
UID:urn:uuid:cca44283-904a-49f2-8ab9-69395157ecde
STATUS:CONFIRMED
ORGANIZER:
DTSTAMP:20260420T194942Z
DTSTART;TZID=America/New_York:20221203T090000
DTEND;TZID=America/New_York:20221203T090000
LOCATION:Chick-fil-a Seaford\n22932 Sussex Hwy.\nSeaford\, DE 19973
END:VEVENT
END:VCALENDAR