BEGIN:VCALENDAR
METHOD:PUBLISH
VERSION:2.0
CALSCALE:GREGORIAN
PRODID:-//NONSGML WPForms//NONSGML Sugar Calendar Feeds v3.10.0//EN
X-WR-CALNAME:Chincoteague Christmas Parade in Main Street Chincoteague\,
  VA 6:00 pm
X-WR-CALDESC:The Hidden Little Gem Blog
X-WR-TIMEZONE:America/New_York
BEGIN:VTIMEZONE
TZID:America/New_York
BEGIN:STANDARD
TZOFFSETFROM:-0400
TZOFFSETTO:-0500
DTSTART:20221106T060000
TZNAME:EST
END:STANDARD
END:VTIMEZONE
BEGIN:VTIMEZONE
TZID:America/New_York
BEGIN:STANDARD
TZOFFSETFROM:-0400
TZOFFSETTO:-0500
DTSTART:20221106T060000
TZNAME:EST
END:STANDARD
END:VTIMEZONE
BEGIN:VEVENT
SUMMARY:Chincoteague Christmas Parade in Main Street Chincoteague\, VA 6
 :00 pm
DESCRIPTION:link to Facebook event
URL;VALUE=URI:https://thehiddenlittlegemblog.com/events/chincoteague-chr
 istmas-parade-in-main-street-chincoteague-va-600-pm/
UID:urn:uuid:686a0694-180a-4de5-ab38-b6aefca8afda
STATUS:CONFIRMED
ORGANIZER:
DTSTAMP:20260421T081547Z
DTSTART;TZID=America/New_York:20221203T000000
DTEND;TZID=America/New_York:20221203T000000
END:VEVENT
END:VCALENDAR