BEGIN:VCALENDAR
METHOD:PUBLISH
VERSION:2.0
CALSCALE:GREGORIAN
PRODID:-//NONSGML WPForms//NONSGML Sugar Calendar Feeds v3.10.0//EN
X-WR-CALNAME:Delmar Fall Festival & Trunk or Treat @ 3C USA Delmar Campu
 s 6:00 pm to 8:30 pm
X-WR-CALDESC:The Hidden Little Gem Blog
X-WR-TIMEZONE:America/New_York
BEGIN:VTIMEZONE
TZID:America/New_York
BEGIN:DAYLIGHT
TZOFFSETFROM:-0400
TZOFFSETTO:-0400
DTSTART:20220429T060000
TZNAME:EDT
END:DAYLIGHT
END:VTIMEZONE
BEGIN:VTIMEZONE
TZID:America/New_York
BEGIN:DAYLIGHT
TZOFFSETFROM:-0400
TZOFFSETTO:-0400
DTSTART:20220429T060000
TZNAME:EDT
END:DAYLIGHT
END:VTIMEZONE
BEGIN:VEVENT
SUMMARY:Delmar Fall Festival & Trunk or Treat @ 3C USA Delmar Campus 6:0
 0 pm to 8:30 pm
DESCRIPTION:link to Facebook event\n\n\n\n\n\nback to calendar
URL;VALUE=URI:https://thehiddenlittlegemblog.com/events/delmar-fall-fest
 ival-trunk-or-treat-3c-usa-delmar-campus-600-pm-to-830-pm/
UID:urn:uuid:cff1a3d4-6154-4660-9d76-eb5e442fc64b
STATUS:CONFIRMED
ORGANIZER:
DTSTAMP:20260420T055245Z
DTSTART;TZID=America/New_York:20221028T180000
DTEND;TZID=America/New_York:20221028T203000
LOCATION:3C USA Delmar Campus\n38238 Old Stage Road \nDelmar\, DE 19940
END:VEVENT
END:VCALENDAR