BEGIN:VCALENDAR
METHOD:PUBLISH
VERSION:2.0
CALSCALE:GREGORIAN
PRODID:-//NONSGML WPForms//NONSGML Sugar Calendar Feeds v3.10.0//EN
X-WR-CALNAME:Fall Fun Zone @ Wright's Market 8:00 am - 6:00 pm
X-WR-CALDESC:The Hidden Little Gem Blog
X-WR-TIMEZONE:America/New_York
BEGIN:VTIMEZONE
TZID:America/New_York
BEGIN:DAYLIGHT
TZOFFSETFROM:-0400
TZOFFSETTO:-0400
DTSTART:20220326T200000
TZNAME:EDT
END:DAYLIGHT
END:VTIMEZONE
BEGIN:VTIMEZONE
TZID:America/New_York
BEGIN:DAYLIGHT
TZOFFSETFROM:-0400
TZOFFSETTO:-0400
DTSTART:20220326T200000
TZNAME:EDT
END:DAYLIGHT
END:VTIMEZONE
BEGIN:VEVENT
SUMMARY:Fall Fun Zone @ Wright's Market 8:00 am - 6:00 pm
DESCRIPTION:link to website\n\n\n\n\n\nback to calendar
URL;VALUE=URI:https://thehiddenlittlegemblog.com/events/fall-fun-zone-wr
 ights-market-800-am-600-pm/
UID:urn:uuid:83afd61c-a58c-4c66-8eaa-ed4ba5e893dd
STATUS:CONFIRMED
ORGANIZER:
DTSTAMP:20260420T013857Z
DTSTART;TZID=America/New_York:20220925T080000
DTEND;TZID=America/New_York:20220925T180000
LOCATION:Wright's Market\n9300 Old Railroad Road\nMardela Springs\, Mary
 land 21837
END:VEVENT
END:VCALENDAR