BEGIN:VCALENDAR
METHOD:PUBLISH
VERSION:2.0
CALSCALE:GREGORIAN
PRODID:-//NONSGML WPForms//NONSGML Sugar Calendar Feeds v3.10.0//EN
X-WR-CALNAME:Fall Story Time with Funny Farm Petting Zoo @ Winterplace P
 ark 10:00 am
X-WR-CALDESC:The Hidden Little Gem Blog
X-WR-TIMEZONE:America/New_York
BEGIN:VTIMEZONE
TZID:America/New_York
BEGIN:STANDARD
TZOFFSETFROM:-0400
TZOFFSETTO:-0500
DTSTART:20221106T060000
TZNAME:EST
END:STANDARD
END:VTIMEZONE
BEGIN:VTIMEZONE
TZID:America/New_York
BEGIN:STANDARD
TZOFFSETFROM:-0400
TZOFFSETTO:-0500
DTSTART:20221106T060000
TZNAME:EST
END:STANDARD
END:VTIMEZONE
BEGIN:VEVENT
SUMMARY:Fall Story Time with Funny Farm Petting Zoo @ Winterplace Park 1
 0:00 am
DESCRIPTION:
URL;VALUE=URI:https://thehiddenlittlegemblog.com/events/fall-story-time-
 with-funny-farm-petting-zoo-winterplace-park-1000-am/
UID:urn:uuid:87d9d532-0b8b-4332-9e80-3f39e17fa49f
STATUS:CONFIRMED
ORGANIZER:
DTSTAMP:20260420T095233Z
DTSTART;TZID=America/New_York:20221108T100000
DTEND;TZID=America/New_York:20221108T100000
LOCATION:Winterplace Park \n6737 Blue Ribbon Road \nSalisbury\, MD 21804
END:VEVENT
END:VCALENDAR