BEGIN:VCALENDAR
METHOD:PUBLISH
VERSION:2.0
CALSCALE:GREGORIAN
PRODID:-//NONSGML WPForms//NONSGML Sugar Calendar Feeds v3.10.0//EN
X-WR-CALNAME:Gingerbread Man Decorating at Ocean Pines Community Center 
 4:00 pm - 6:00 pm ($8/per child)
X-WR-CALDESC:The Hidden Little Gem Blog
X-WR-TIMEZONE:America/New_York
BEGIN:VTIMEZONE
TZID:America/New_York
BEGIN:STANDARD
TZOFFSETFROM:-0400
TZOFFSETTO:-0500
DTSTART:20221106T060000
TZNAME:EST
END:STANDARD
END:VTIMEZONE
BEGIN:VTIMEZONE
TZID:America/New_York
BEGIN:STANDARD
TZOFFSETFROM:-0400
TZOFFSETTO:-0500
DTSTART:20221106T060000
TZNAME:EST
END:STANDARD
END:VTIMEZONE
BEGIN:VEVENT
SUMMARY:Gingerbread Man Decorating at Ocean Pines Community Center 4:00 
 pm - 6:00 pm ($8/per child)
DESCRIPTION:link to Facebook event\n\n\n\n\n\nback to calendar
URL;VALUE=URI:https://thehiddenlittlegemblog.com/events/gingerbread-man-
 decorating-at-ocean-pines-community-center-400-pm-600-pm-8-per-child/
UID:urn:uuid:02e59eea-0b0f-4df8-b83d-b6e5b67f96f4
STATUS:CONFIRMED
ORGANIZER:
DTSTAMP:20260420T044105Z
DTSTART;TZID=America/New_York:20221216T160000
DTEND;TZID=America/New_York:20221216T180000
LOCATION:Ocean Pines Community Center\n235 Ocean Pkwy.\nOcean Pines\, MD
  21811
END:VEVENT
END:VCALENDAR