BEGIN:VCALENDAR
METHOD:PUBLISH
VERSION:2.0
CALSCALE:GREGORIAN
PRODID:-//NONSGML WPForms//NONSGML Sugar Calendar Feeds v3.10.0//EN
X-WR-CALNAME:Ice Skate with the Grinch at the Carousel 4:00 pm - 6:00 pm
X-WR-CALDESC:The Hidden Little Gem Blog
X-WR-TIMEZONE:America/New_York
BEGIN:VTIMEZONE
TZID:America/New_York
BEGIN:STANDARD
TZOFFSETFROM:-0400
TZOFFSETTO:-0500
DTSTART:20221106T060000
TZNAME:EST
END:STANDARD
END:VTIMEZONE
BEGIN:VTIMEZONE
TZID:America/New_York
BEGIN:STANDARD
TZOFFSETFROM:-0400
TZOFFSETTO:-0500
DTSTART:20221106T060000
TZNAME:EST
END:STANDARD
END:VTIMEZONE
BEGIN:VEVENT
SUMMARY:Ice Skate with the Grinch at the Carousel 4:00 pm - 6:00 pm
DESCRIPTION:link to Facebook event\n\n\n\n\n\nback to calendar
URL;VALUE=URI:https://thehiddenlittlegemblog.com/events/ice-skate-with-t
 he-grinch-at-the-carousel-400-pm-600-pm/
UID:urn:uuid:ea5782ee-892d-4d2a-a319-a43dc564f3fd
STATUS:CONFIRMED
ORGANIZER:
DTSTAMP:20260421T092034Z
DTSTART;TZID=America/New_York:20221217T160000
DTEND;TZID=America/New_York:20221217T180000
LOCATION:Carousel Oceanfront Hotel &amp\; Condos\n1700 Coastal Hwy. \nOc
 ean City\, MD 21842
END:VEVENT
END:VCALENDAR