BEGIN:VCALENDAR
METHOD:PUBLISH
VERSION:2.0
CALSCALE:GREGORIAN
PRODID:-//NONSGML WPForms//NONSGML Sugar Calendar Feeds v3.11.0//EN
X-WR-CALNAME:Kid's Cookie Decorating Event at Royal Port Candy in Snow H
 ill 1:00 pm - 3:00 pm
X-WR-CALDESC:The Hidden Little Gem Blog
X-WR-TIMEZONE:America/New_York
BEGIN:VTIMEZONE
TZID:America/New_York
BEGIN:STANDARD
TZOFFSETFROM:-0400
TZOFFSETTO:-0500
DTSTART:20221106T060000
TZNAME:EST
END:STANDARD
END:VTIMEZONE
BEGIN:VTIMEZONE
TZID:America/New_York
BEGIN:STANDARD
TZOFFSETFROM:-0400
TZOFFSETTO:-0500
DTSTART:20221106T060000
TZNAME:EST
END:STANDARD
END:VTIMEZONE
BEGIN:VEVENT
SUMMARY:Kid's Cookie Decorating Event at Royal Port Candy in Snow Hill 1
 :00 pm - 3:00 pm
DESCRIPTION:link to Facebook page
URL;VALUE=URI:https://thehiddenlittlegemblog.com/events/kids-cookie-deco
 rating-event-at-royal-port-candy-in-snow-hill-100-pm-300-pm/
UID:urn:uuid:5c6047a0-156f-47d7-82f2-d8703267bd40
STATUS:CONFIRMED
ORGANIZER:
DTSTAMP:20260426T021803Z
DTSTART;TZID=America/New_York:20221221T130000
DTEND;TZID=America/New_York:20221221T150000
LOCATION:Royal Port Candy \n102 W. Green Street\nSnow Hill\, MD 21863
END:VEVENT
END:VCALENDAR