BEGIN:VCALENDAR
METHOD:PUBLISH
VERSION:2.0
CALSCALE:GREGORIAN
PRODID:-//NONSGML WPForms//NONSGML Sugar Calendar Feeds v3.10.0//EN
X-WR-CALNAME:Kid's Run the Bases @ The Shorebirds Game 2:05 pm (All Ages
 )￼
X-WR-CALDESC:The Hidden Little Gem Blog
X-WR-TIMEZONE:America/New_York
BEGIN:VTIMEZONE
TZID:America/New_York
BEGIN:DAYLIGHT
TZOFFSETFROM:-0500
TZOFFSETTO:-0400
DTSTART:20220313T070000
TZNAME:EDT
END:DAYLIGHT
END:VTIMEZONE
BEGIN:VTIMEZONE
TZID:America/New_York
BEGIN:DAYLIGHT
TZOFFSETFROM:-0500
TZOFFSETTO:-0400
DTSTART:20220313T070000
TZNAME:EDT
END:DAYLIGHT
END:VTIMEZONE
BEGIN:VEVENT
SUMMARY:Kid's Run the Bases @ The Shorebirds Game 2:05 pm (All Ages)￼
DESCRIPTION:Game Highlight: Kids Run the Bases After the Game!\n\n\n\nA
 fter every Sunday home game\, the Shorebirds will allow kids to run the 
 bases after the game just like the Shorebirds players!\n\n\n\n\nhttps://
 www.milb.com/delmarva/tickets/promotions\n\n\n\n\nThe Shorebirds Kids Cl
 ub presented by Maui Jack's Waterpark is a homerun of a membership for k
 ids ages 12 and under! The kids club includes two upper reserved tickets
  to five Sunday Shorebirds home games\, one (1) complimentary ticket to 
 Maui Jack's Waterpark\, an exclusive player autograph session\, a replic
 a baseball\, a membership card and lanyard\, and so much more - all for
  just $25!\n\n\n\n\nlink to kids club\n\n\n\n\n\nback to calendar
URL;VALUE=URI:https://thehiddenlittlegemblog.com/events/kids-run-the-bas
 es-the-shorebirds-game-205-pm-all-ages%ef%bf%bc/
UID:urn:uuid:6013e79e-ebf2-44f7-a1d8-fec1ab4ce010
STATUS:CONFIRMED
ORGANIZER:
DTSTAMP:20260421T081244Z
DTSTART;TZID=America/New_York:20220522T020500
DTEND;TZID=America/New_York:20220522T020500
LOCATION:6400 Hobbs Road\nSalisbury\, MD 21804
END:VEVENT
END:VCALENDAR