BEGIN:VCALENDAR
METHOD:PUBLISH
VERSION:2.0
CALSCALE:GREGORIAN
PRODID:-//NONSGML WPForms//NONSGML Sugar Calendar Feeds v3.11.0//EN
X-WR-CALNAME:Little Women - The Musical at Wihi Auditorium 2:00 pm
X-WR-CALDESC:The Hidden Little Gem Blog
X-WR-TIMEZONE:America/New_York
BEGIN:VTIMEZONE
TZID:America/New_York
BEGIN:STANDARD
TZOFFSETFROM:-0400
TZOFFSETTO:-0500
DTSTART:20221106T060000
TZNAME:EST
END:STANDARD
END:VTIMEZONE
BEGIN:VTIMEZONE
TZID:America/New_York
BEGIN:STANDARD
TZOFFSETFROM:-0400
TZOFFSETTO:-0500
DTSTART:20221106T060000
TZNAME:EST
END:STANDARD
END:VTIMEZONE
BEGIN:VEVENT
SUMMARY:Little Women - The Musical at Wihi Auditorium 2:00 pm
DESCRIPTION:link to event website\n\n\n\n\n\nback to calendar
URL;VALUE=URI:https://thehiddenlittlegemblog.com/events/little-women-the
 -musical-at-wihi-auditorium-200-pm/
UID:urn:uuid:c99e0b9b-d7e2-4c07-92ca-e4b0da2d43d0
STATUS:CONFIRMED
ORGANIZER:
DTSTAMP:20260423T185458Z
DTSTART;TZID=America/New_York:20221106T140000
DTEND;TZID=America/New_York:20221106T140000
LOCATION:Wicomico High School Auditorium\nGlen Avenue\nSalisbury\, MD 21
 804
END:VEVENT
END:VCALENDAR