BEGIN:VCALENDAR
METHOD:PUBLISH
VERSION:2.0
CALSCALE:GREGORIAN
PRODID:-//NONSGML WPForms//NONSGML Sugar Calendar Feeds v3.10.0//EN
X-WR-CALNAME:Live Nativity at Sonrise Church 5:00 pm - 6:30 pm
X-WR-CALDESC:The Hidden Little Gem Blog
X-WR-TIMEZONE:America/New_York
BEGIN:VTIMEZONE
TZID:America/New_York
BEGIN:STANDARD
TZOFFSETFROM:-0400
TZOFFSETTO:-0500
DTSTART:20221106T060000
TZNAME:EST
END:STANDARD
END:VTIMEZONE
BEGIN:VTIMEZONE
TZID:America/New_York
BEGIN:STANDARD
TZOFFSETFROM:-0400
TZOFFSETTO:-0500
DTSTART:20221106T060000
TZNAME:EST
END:STANDARD
END:VTIMEZONE
BEGIN:VEVENT
SUMMARY:Live Nativity at Sonrise Church 5:00 pm - 6:30 pm
DESCRIPTION:link to Facebook event\n\n\n\n\n\nback to calendar
URL;VALUE=URI:https://thehiddenlittlegemblog.com/events/live-nativity-at
 -sonrise-church-500-pm-630-pm/
UID:urn:uuid:4e89b72c-34de-4f48-84c6-1d5ec71e5221
STATUS:CONFIRMED
ORGANIZER:
DTSTAMP:20260421T082342Z
DTSTART;TZID=America/New_York:20221218T170000
DTEND;TZID=America/New_York:20221218T183000
LOCATION:Sunrise Church\n10026 Main Street \nBerlin\, MD 21811
END:VEVENT
END:VCALENDAR