BEGIN:VCALENDAR
METHOD:PUBLISH
VERSION:2.0
CALSCALE:GREGORIAN
PRODID:-//NONSGML WPForms//NONSGML Sugar Calendar Feeds v3.10.0//EN
X-WR-CALNAME:Make & Take Craft @ The Library 10:00 am - 12:00 pm (Free)
X-WR-CALDESC:The Hidden Little Gem Blog
X-WR-TIMEZONE:America/New_York
BEGIN:VTIMEZONE
TZID:America/New_York
BEGIN:DAYLIGHT
TZOFFSETFROM:-0500
TZOFFSETTO:-0400
DTSTART:20220313T070000
TZNAME:EDT
END:DAYLIGHT
END:VTIMEZONE
BEGIN:VTIMEZONE
TZID:America/New_York
BEGIN:DAYLIGHT
TZOFFSETFROM:-0500
TZOFFSETTO:-0400
DTSTART:20220313T070000
TZNAME:EDT
END:DAYLIGHT
END:VTIMEZONE
BEGIN:VEVENT
SUMMARY:Make & Take Craft @ The Library 10:00 am - 12:00 pm (Free)
DESCRIPTION:Come to the Downtown Library to create fabulous works of cre
 ative\, crafty art with your friends at our make it and take it home cra
 ft time. For preschoolers and grades K – 8.   Free\n\n\n\n\nWicomic
 o Library Website\n\n\n\n\n\nback to calendar
URL;VALUE=URI:https://thehiddenlittlegemblog.com/events/make-take-craft-
 the-library-1000-am-1200-pm-free/
UID:urn:uuid:e58144f6-317d-47b8-b06e-de2354e25d4c
STATUS:CONFIRMED
ORGANIZER:
DTSTAMP:20260421T082700Z
DTSTART;TZID=America/New_York:20220722T100000
DTEND;TZID=America/New_York:20220722T120000
RRULE:FREQ=WEEKLY;INTERVAL=1;UNTIL=20220730T000000Z
LOCATION:Wicomico Public Library \n122 S Division Street\nSalisbury\, MD
  21801
END:VEVENT
END:VCALENDAR