BEGIN:VCALENDAR
METHOD:PUBLISH
VERSION:2.0
CALSCALE:GREGORIAN
PRODID:-//NONSGML WPForms//NONSGML Sugar Calendar Feeds v3.10.0//EN
X-WR-CALNAME:Moana Jr. performed by Ocean Pines Children's Theater 7:00 
 pm ($15/ticket)
X-WR-CALDESC:The Hidden Little Gem Blog
X-WR-TIMEZONE:America/New_York
BEGIN:VTIMEZONE
TZID:America/New_York
BEGIN:STANDARD
TZOFFSETFROM:-0400
TZOFFSETTO:-0500
DTSTART:20221106T060000
TZNAME:EST
END:STANDARD
END:VTIMEZONE
BEGIN:VTIMEZONE
TZID:America/New_York
BEGIN:STANDARD
TZOFFSETFROM:-0400
TZOFFSETTO:-0500
DTSTART:20221106T060000
TZNAME:EST
END:STANDARD
END:VTIMEZONE
BEGIN:VEVENT
SUMMARY:Moana Jr. performed by Ocean Pines Children's Theater 7:00 pm ($
 15/ticket)
DESCRIPTION:link to website\n\n\n\n\n\nback to calendar
URL;VALUE=URI:https://thehiddenlittlegemblog.com/events/moana-jr-perform
 ed-by-ocean-pines-childrens-theater-600-pm-15-ticket/
UID:urn:uuid:6e5bf91c-e6c5-4491-9b5e-49a6aeb1badd
STATUS:CONFIRMED
ORGANIZER:
DTSTAMP:20260422T003523Z
DTSTART;TZID=America/New_York:20230106T190000
DTEND;TZID=America/New_York:20230106T190000
LOCATION:Ocean City Performing Arts Center\n4001 Coastal Highway \nOcean
  City\, MD 21842
END:VEVENT
END:VCALENDAR