BEGIN:VCALENDAR
METHOD:PUBLISH
VERSION:2.0
CALSCALE:GREGORIAN
PRODID:-//NONSGML WPForms//NONSGML Sugar Calendar Feeds v3.11.0//EN
X-WR-CALNAME:Opening Day @ Mr. Pepper's Pumpkin Patch 10:00 am - Corn Ma
 ze + Hayrides + BBQ Shack
X-WR-CALDESC:The Hidden Little Gem Blog
X-WR-TIMEZONE:America/New_York
BEGIN:VTIMEZONE
TZID:America/New_York
BEGIN:DAYLIGHT
TZOFFSETFROM:-0400
TZOFFSETTO:-0400
DTSTART:20220325T220000
TZNAME:EDT
END:DAYLIGHT
END:VTIMEZONE
BEGIN:VTIMEZONE
TZID:America/New_York
BEGIN:DAYLIGHT
TZOFFSETFROM:-0400
TZOFFSETTO:-0400
DTSTART:20220325T220000
TZNAME:EDT
END:DAYLIGHT
END:VTIMEZONE
BEGIN:VEVENT
SUMMARY:Opening Day @ Mr. Pepper's Pumpkin Patch 10:00 am - Corn Maze + 
 Hayrides + BBQ Shack
DESCRIPTION:link to website\n\n\n\n\n\nlink to Facebook page\n\n\n\n\n\n
 back to calendar
URL;VALUE=URI:https://thehiddenlittlegemblog.com/events/opening-day-mr-p
 eppers-pumpkin-patch-1000-am-corn-maze-hayrides-bbq-shack/
UID:urn:uuid:de215834-ce89-427a-8c88-680b700ad48b
STATUS:CONFIRMED
ORGANIZER:
DTSTAMP:20260423T052804Z
DTSTART;TZID=America/New_York:20220924T100000
DTEND;TZID=America/New_York:20220924T100000
LOCATION:Mr Pepper’s Pumpkin Patch\n13500 Laurel Road\nLaurel\, DE 199
 56
END:VEVENT
END:VCALENDAR