BEGIN:VCALENDAR
METHOD:PUBLISH
VERSION:2.0
CALSCALE:GREGORIAN
PRODID:-//NONSGML WPForms//NONSGML Sugar Calendar Feeds v3.10.0//EN
X-WR-CALNAME:Paint & Decorate Your Own Ornaments & Wine Glasses at M&C V
 essey Farm 12:00 pm - 3:00 pm
X-WR-CALDESC:The Hidden Little Gem Blog
X-WR-TIMEZONE:America/New_York
BEGIN:VTIMEZONE
TZID:America/New_York
BEGIN:STANDARD
TZOFFSETFROM:-0400
TZOFFSETTO:-0500
DTSTART:20221106T060000
TZNAME:EST
END:STANDARD
END:VTIMEZONE
BEGIN:VTIMEZONE
TZID:America/New_York
BEGIN:STANDARD
TZOFFSETFROM:-0400
TZOFFSETTO:-0500
DTSTART:20221106T060000
TZNAME:EST
END:STANDARD
END:VTIMEZONE
BEGIN:VEVENT
SUMMARY:Paint & Decorate Your Own Ornaments & Wine Glasses at M&C Vessey
  Farm 12:00 pm - 3:00 pm
DESCRIPTION:link to Facebook page\n\n\n\n\n\nback to calendar
URL;VALUE=URI:https://thehiddenlittlegemblog.com/events/paint-decorate-y
 our-own-ornaments-wine-glasses-at-mc-vessey-farm-1200-pm-300-pm/
UID:urn:uuid:dcc6e86d-458a-4f93-a998-7a32a9c34ca3
STATUS:CONFIRMED
ORGANIZER:
DTSTAMP:20260420T045112Z
DTSTART;TZID=America/New_York:20221106T120000
DTEND;TZID=America/New_York:20221106T150000
RRULE:FREQ=WEEKLY;INTERVAL=1;UNTIL=20221121T235959Z
LOCATION:M&amp\;C Vessey Farm \n31783 Vessey Orchard Road\nWestover\, MD
  21871
END:VEVENT
END:VCALENDAR