BEGIN:VCALENDAR
METHOD:PUBLISH
VERSION:2.0
CALSCALE:GREGORIAN
PRODID:-//NONSGML WPForms//NONSGML Sugar Calendar Feeds v3.10.0//EN
X-WR-CALNAME:Princess Skate Party at SkateWorld in Laurel 9:30 am to 11:
 00 am - All Ages - $10/person
X-WR-CALDESC:The Hidden Little Gem Blog
X-WR-TIMEZONE:America/New_York
BEGIN:VTIMEZONE
TZID:America/New_York
BEGIN:STANDARD
TZOFFSETFROM:-0400
TZOFFSETTO:-0500
DTSTART:20221106T060000
TZNAME:EST
END:STANDARD
END:VTIMEZONE
BEGIN:VTIMEZONE
TZID:America/New_York
BEGIN:STANDARD
TZOFFSETFROM:-0400
TZOFFSETTO:-0500
DTSTART:20221106T060000
TZNAME:EST
END:STANDARD
END:VTIMEZONE
BEGIN:VEVENT
SUMMARY:Princess Skate Party at SkateWorld in Laurel 9:30 am to 11:00 am
  - All Ages - $10/person
DESCRIPTION:link to Facebook page\n\n\n\n\n\nback to calendar
URL;VALUE=URI:https://thehiddenlittlegemblog.com/events/princess-skate-p
 arty-at-skateworld-in-laurel-930-am-to-1100-am-all-ages-10-person/
UID:urn:uuid:85e11697-b40f-45d6-9ab1-f22520d762f3
STATUS:CONFIRMED
ORGANIZER:
DTSTAMP:20260420T111046Z
DTSTART;TZID=America/New_York:20230225T093000
DTEND;TZID=America/New_York:20230225T110000
LOCATION:SkateWorld \n28393 Seaford Road \nLaurel\, DE 19956
END:VEVENT
END:VCALENDAR