BEGIN:VCALENDAR
METHOD:PUBLISH
VERSION:2.0
CALSCALE:GREGORIAN
PRODID:-//NONSGML WPForms//NONSGML Sugar Calendar Feeds v3.10.0//EN
X-WR-CALNAME:Relay for Life of Wicomico 2022 - Family Event 5:00 pm - 11
 :00 pm
X-WR-CALDESC:The Hidden Little Gem Blog
X-WR-TIMEZONE:America/New_York
BEGIN:VTIMEZONE
TZID:America/New_York
BEGIN:DAYLIGHT
TZOFFSETFROM:-0400
TZOFFSETTO:-0400
DTSTART:20220325T050000
TZNAME:EDT
END:DAYLIGHT
END:VTIMEZONE
BEGIN:VTIMEZONE
TZID:America/New_York
BEGIN:DAYLIGHT
TZOFFSETFROM:-0400
TZOFFSETTO:-0400
DTSTART:20220325T050000
TZNAME:EDT
END:DAYLIGHT
END:VTIMEZONE
BEGIN:VEVENT
SUMMARY:Relay for Life of Wicomico 2022 - Family Event 5:00 pm - 11:00 p
 m
DESCRIPTION:link to event website\n\n\n\n\n\nlink to Facebook event\n\n\
 n\n\n\nback to calendar
URL;VALUE=URI:https://thehiddenlittlegemblog.com/events/relay-for-life-o
 f-wicomico-2022-family-event-500-pm-1100-pm/
UID:urn:uuid:79f86177-2884-4433-82ac-2fc5c007f4a6
STATUS:CONFIRMED
ORGANIZER:
DTSTAMP:20260420T040820Z
DTSTART;TZID=America/New_York:20220923T170000
DTEND;TZID=America/New_York:20220923T230000
LOCATION:Winterplace Park \n6737 Blue Ribbon Road\nSalisbury\, MD 21804
END:VEVENT
END:VCALENDAR