BEGIN:VCALENDAR
METHOD:PUBLISH
VERSION:2.0
CALSCALE:GREGORIAN
PRODID:-//NONSGML WPForms//NONSGML Sugar Calendar Feeds v3.11.0//EN
X-WR-CALNAME:Santa's House on the Boardwalk in Rehoboth Beach\, DE 4:00 
 pm - 6:30 pm
X-WR-CALDESC:The Hidden Little Gem Blog
X-WR-TIMEZONE:America/New_York
BEGIN:VTIMEZONE
TZID:America/New_York
BEGIN:STANDARD
TZOFFSETFROM:-0400
TZOFFSETTO:-0500
DTSTART:20221106T060000
TZNAME:EST
END:STANDARD
END:VTIMEZONE
BEGIN:VTIMEZONE
TZID:America/New_York
BEGIN:STANDARD
TZOFFSETFROM:-0400
TZOFFSETTO:-0500
DTSTART:20221106T060000
TZNAME:EST
END:STANDARD
END:VTIMEZONE
BEGIN:VEVENT
SUMMARY:Santa's House on the Boardwalk in Rehoboth Beach\, DE 4:00 pm - 
 6:30 pm
DESCRIPTION:link to Facebook event
URL;VALUE=URI:https://thehiddenlittlegemblog.com/events/santas-house-on-
 the-boardwalk-in-rehoboth-beach-de-400-pm-630-pm/
UID:urn:uuid:4e1b87a6-8a87-413b-908a-a218951ad725
STATUS:CONFIRMED
ORGANIZER:
DTSTAMP:20260424T122432Z
DTSTART;TZID=America/New_York:20221125T160000
DTEND;TZID=America/New_York:20221125T183000
LOCATION:Rehoboth Beach Boardwalk\n8 Rehoboth Avenue \nRehoboth Beach\, 
 DE 19971
END:VEVENT
END:VCALENDAR