BEGIN:VCALENDAR
METHOD:PUBLISH
VERSION:2.0
CALSCALE:GREGORIAN
PRODID:-//NONSGML WPForms//NONSGML Sugar Calendar Feeds v3.10.0//EN
X-WR-CALNAME:Story Time @ Berlin Library 10:30 am - 11:30 am Ages 2 to 5
  - Free
X-WR-CALDESC:The Hidden Little Gem Blog
X-WR-TIMEZONE:America/New_York
BEGIN:VTIMEZONE
TZID:America/New_York
BEGIN:STANDARD
TZOFFSETFROM:-0400
TZOFFSETTO:-0500
DTSTART:20221106T060000
TZNAME:EST
END:STANDARD
END:VTIMEZONE
BEGIN:VTIMEZONE
TZID:America/New_York
BEGIN:STANDARD
TZOFFSETFROM:-0400
TZOFFSETTO:-0500
DTSTART:20221106T060000
TZNAME:EST
END:STANDARD
END:VTIMEZONE
BEGIN:VEVENT
SUMMARY:Story Time @ Berlin Library 10:30 am - 11:30 am Ages 2 to 5 - Fr
 ee
DESCRIPTION:link to event website\n\n\n\n\n\nback to calendar
URL;VALUE=URI:https://thehiddenlittlegemblog.com/events/story-time-berli
 n-library-1030-am-1130-am-ages-2-to-5-free-2/
UID:urn:uuid:e2540816-78b0-4ed6-98c2-365f2c69e230
STATUS:CONFIRMED
ORGANIZER:
DTSTAMP:20260421T095703Z
DTSTART;TZID=America/New_York:20230117T103000
DTEND;TZID=America/New_York:20230117T113000
LOCATION:Berlin Library \n13 Harrison Avenue\nBerlin\, MD 21811
END:VEVENT
END:VCALENDAR