BEGIN:VCALENDAR
METHOD:PUBLISH
VERSION:2.0
CALSCALE:GREGORIAN
PRODID:-//NONSGML WPForms//NONSGML Sugar Calendar Feeds v3.10.0//EN
X-WR-CALNAME:Story Time @ Berlin Library 10:30 am - 11:30 am Ages 2 to 5
  - Free
X-WR-CALDESC:The Hidden Little Gem Blog
X-WR-TIMEZONE:America/New_York
BEGIN:VTIMEZONE
TZID:America/New_York
BEGIN:STANDARD
TZOFFSETFROM:-0400
TZOFFSETTO:-0500
DTSTART:20221106T060000
TZNAME:EST
END:STANDARD
END:VTIMEZONE
BEGIN:VTIMEZONE
TZID:America/New_York
BEGIN:STANDARD
TZOFFSETFROM:-0400
TZOFFSETTO:-0500
DTSTART:20221106T060000
TZNAME:EST
END:STANDARD
END:VTIMEZONE
BEGIN:VEVENT
SUMMARY:Story Time @ Berlin Library 10:30 am - 11:30 am Ages 2 to 5 - Fr
 ee
DESCRIPTION:link to event\n\n\n\n\n\nback to calendar
URL;VALUE=URI:https://thehiddenlittlegemblog.com/events/story-time-berli
 n-library-1030-am-1130-am-ages-2-to-5-free-3/
UID:urn:uuid:a642c153-2a84-424b-a373-a7c1b527c594
STATUS:CONFIRMED
ORGANIZER:
DTSTAMP:20260420T222454Z
DTSTART;TZID=America/New_York:20230124T103000
DTEND;TZID=America/New_York:20230124T113000
LOCATION:Berlin Library\n13 Harrison Avenue \nBerlin\, MD 21811
END:VEVENT
END:VCALENDAR