BEGIN:VCALENDAR
METHOD:PUBLISH
VERSION:2.0
CALSCALE:GREGORIAN
PRODID:-//NONSGML WPForms//NONSGML Sugar Calendar Feeds v3.10.0//EN
X-WR-CALNAME:Story Time w/ Funny Farm Petting Zoo at Winterplace Park 10
 :00 am (FREE)
X-WR-CALDESC:The Hidden Little Gem Blog
X-WR-TIMEZONE:America/New_York
BEGIN:VTIMEZONE
TZID:America/New_York
BEGIN:DAYLIGHT
TZOFFSETFROM:-0500
TZOFFSETTO:-0400
DTSTART:20220313T070000
TZNAME:EDT
END:DAYLIGHT
END:VTIMEZONE
BEGIN:VTIMEZONE
TZID:America/New_York
BEGIN:DAYLIGHT
TZOFFSETFROM:-0500
TZOFFSETTO:-0400
DTSTART:20220313T070000
TZNAME:EDT
END:DAYLIGHT
END:VTIMEZONE
BEGIN:VEVENT
SUMMARY:Story Time w/ Funny Farm Petting Zoo at Winterplace Park 10:00 a
 m (FREE)
DESCRIPTION:Families with young children are invited to participate in a
  group story time\, featuring a special animal guest from the funny farm
 ! Registration is FREE! Email fjackson@wicomicocounty.org to register! E
 vent is also on Facebook!\n\n\n\n\nlink to website\n\n\n\n\n\nback to ca
 lendar
URL;VALUE=URI:https://thehiddenlittlegemblog.com/events/story-time-w-fun
 ny-farm-petting-zoo-at-winterplace-park-1000-am-free/
UID:urn:uuid:285ae91d-6e9e-42d9-92bb-66bcf68fb89f
STATUS:CONFIRMED
ORGANIZER:
DTSTAMP:20260421T081644Z
DTSTART;TZID=America/New_York:20220809T100000
DTEND;TZID=America/New_York:20220809T110000
LOCATION:Winterplace Park\n6737 Blue Ribbon Road\nSalisbury\, MD 21804
END:VEVENT
END:VCALENDAR