BEGIN:VCALENDAR
METHOD:PUBLISH
VERSION:2.0
CALSCALE:GREGORIAN
PRODID:-//NONSGML WPForms//NONSGML Sugar Calendar Feeds v3.10.0//EN
X-WR-CALNAME:Summerfest - Free Event for Kid's & Families 5:00 pm - 10:0
 0 pm
X-WR-CALDESC:The Hidden Little Gem Blog
X-WR-TIMEZONE:America/New_York
BEGIN:VTIMEZONE
TZID:America/New_York
BEGIN:DAYLIGHT
TZOFFSETFROM:-0500
TZOFFSETTO:-0400
DTSTART:20220313T070000
TZNAME:EDT
END:DAYLIGHT
END:VTIMEZONE
BEGIN:VTIMEZONE
TZID:America/New_York
BEGIN:DAYLIGHT
TZOFFSETFROM:-0500
TZOFFSETTO:-0400
DTSTART:20220313T070000
TZNAME:EDT
END:DAYLIGHT
END:VTIMEZONE
BEGIN:VEVENT
SUMMARY:Summerfest - Free Event for Kid's & Families 5:00 pm - 10:00 pm
DESCRIPTION:"Spend the evening at a community park during Summerfest\, a
  FREE event series for kids focused on providing cool\, unique themed ex
 periences. Children can play games\, socialize with family and friends\,
  listen to good music\, grab a snack and catch an outdoor movie."\n\n\n\
 n\nlink to event\n\n\n\n\n\n\n\n\n\nback to calendar
URL;VALUE=URI:https://thehiddenlittlegemblog.com/events/summerfest-free-
 event-for-kids-families-500-pm-1000-pm-2/
UID:urn:uuid:8fb14f98-7df3-4c67-a968-44a157928728
STATUS:CONFIRMED
ORGANIZER:
DTSTAMP:20260419T125337Z
DTSTART;TZID=America/New_York:20220714T170000
DTEND;TZID=America/New_York:20220714T220000
LOCATION:Billy Gene Jackson Sr. Park\n428 Lake Street\nSalisbury\, MD 21
 801
END:VEVENT
END:VCALENDAR