BEGIN:VCALENDAR
METHOD:PUBLISH
VERSION:2.0
CALSCALE:GREGORIAN
PRODID:-//NONSGML WPForms//NONSGML Sugar Calendar Feeds v3.11.0//EN
X-WR-CALNAME:SWAPS Craft at Sweet Frog in Salisbury - All Day Event - Al
 l Ages - Free
X-WR-CALDESC:The Hidden Little Gem Blog
X-WR-TIMEZONE:America/New_York
BEGIN:VTIMEZONE
TZID:America/New_York
BEGIN:STANDARD
TZOFFSETFROM:-0400
TZOFFSETTO:-0500
DTSTART:20221106T060000
TZNAME:EST
END:STANDARD
END:VTIMEZONE
BEGIN:VTIMEZONE
TZID:America/New_York
BEGIN:STANDARD
TZOFFSETFROM:-0400
TZOFFSETTO:-0500
DTSTART:20221106T060000
TZNAME:EST
END:STANDARD
END:VTIMEZONE
BEGIN:VEVENT
SUMMARY:SWAPS Craft at Sweet Frog in Salisbury - All Day Event - All Age
 s - Free
DESCRIPTION:link to event website\n\n\n\n\n\nback to calendar
URL;VALUE=URI:https://thehiddenlittlegemblog.com/events/swaps-craft-at-s
 weet-frog-in-salisbury-all-day-event-all-ages-free/
UID:urn:uuid:3e7c5e15-1be4-45a0-a4c9-60a6158d0c38
STATUS:CONFIRMED
ORGANIZER:
DTSTAMP:20260426T042812Z
DTSTART;VALUE=DATE:20230131
LOCATION:Sweet Frog\n2721-E N Salisbury Blvd\nSalisbury\, MD 21801
END:VEVENT
END:VCALENDAR