BEGIN:VCALENDAR
METHOD:PUBLISH
VERSION:2.0
CALSCALE:GREGORIAN
PRODID:-//NONSGML WPForms//NONSGML Sugar Calendar Feeds v3.10.0//EN
X-WR-CALNAME:Treat Street @ Wor-Wic Community College 5:30 pm to 7:00 pm
X-WR-CALDESC:The Hidden Little Gem Blog
X-WR-TIMEZONE:America/New_York
BEGIN:VTIMEZONE
TZID:America/New_York
BEGIN:DAYLIGHT
TZOFFSETFROM:-0400
TZOFFSETTO:-0400
DTSTART:20220428T053000
TZNAME:EDT
END:DAYLIGHT
END:VTIMEZONE
BEGIN:VTIMEZONE
TZID:America/New_York
BEGIN:DAYLIGHT
TZOFFSETFROM:-0400
TZOFFSETTO:-0400
DTSTART:20220428T053000
TZNAME:EDT
END:DAYLIGHT
END:VTIMEZONE
BEGIN:VEVENT
SUMMARY:Treat Street @ Wor-Wic Community College 5:30 pm to 7:00 pm
DESCRIPTION:link to Facebook page\n\n\n\n\n\nback to calendar
URL;VALUE=URI:https://thehiddenlittlegemblog.com/events/treat-street-wor
 -wic-community-college-530-pm-to-700-pm/
UID:urn:uuid:5a2a9408-98ff-478c-873c-a3fa050e4cd4
STATUS:CONFIRMED
ORGANIZER:
DTSTAMP:20260420T081522Z
DTSTART;TZID=America/New_York:20221027T173000
DTEND;TZID=America/New_York:20221027T190000
LOCATION:Wor-Wic Community College\n32000 Campus Drive\nSalisbury\, MD 2
 1804
END:VEVENT
END:VCALENDAR