BEGIN:VCALENDAR
METHOD:PUBLISH
VERSION:2.0
CALSCALE:GREGORIAN
PRODID:-//NONSGML WPForms//NONSGML Sugar Calendar Feeds v3.10.0//EN
X-WR-CALNAME:Trunk or Treat @ Selbyville Volunteer Fire Department 10:00
  am to 1:00 pm
X-WR-CALDESC:The Hidden Little Gem Blog
X-WR-TIMEZONE:America/New_York
BEGIN:VTIMEZONE
TZID:America/New_York
BEGIN:DAYLIGHT
TZOFFSETFROM:-0400
TZOFFSETTO:-0400
DTSTART:20220422T220000
TZNAME:EDT
END:DAYLIGHT
END:VTIMEZONE
BEGIN:VTIMEZONE
TZID:America/New_York
BEGIN:DAYLIGHT
TZOFFSETFROM:-0400
TZOFFSETTO:-0400
DTSTART:20220422T220000
TZNAME:EDT
END:DAYLIGHT
END:VTIMEZONE
BEGIN:VEVENT
SUMMARY:Trunk or Treat @ Selbyville Volunteer Fire Department 10:00 am t
 o 1:00 pm
DESCRIPTION:link to Facebook event\n\n\n\n\n\nback to calendar
URL;VALUE=URI:https://thehiddenlittlegemblog.com/events/trunk-or-treat-s
 elbyville-volunteer-fire-department-1000-am-to-100-pm/
UID:urn:uuid:f7d8593b-4f3c-48ca-b928-8e402e652e52
STATUS:CONFIRMED
ORGANIZER:
DTSTAMP:20260422T034409Z
DTSTART;TZID=America/New_York:20221022T100000
DTEND;TZID=America/New_York:20221022T130000
LOCATION:Selbyville Volunteer Fire Company\n30 N Main Street \nSelbyvill
 e\, DE 19975
END:VEVENT
END:VCALENDAR